BEGIN:VCALENDAR
VERSION:2.0
PRODID:KKTIX
CALSCALE:GREGORIAN
METHOD:PUBLISH
BEGIN:VTIMEZONE
TZID:Asia/Taipei
END:VTIMEZONE
BEGIN:VEVENT
DTSTAMP:20260422T163552Z
UID:92eacbc4-0769-4f82-85f4-5b23162aad2a
DTSTART:20260614T113000Z
DTEND:20260614T113000Z
CLASS:PUBLIC
DESCRIPTION:https://lyl.kktix.cc/events/icyball-hk-2026
LOCATION: (MacPherson Stadium) 麥花臣場館
SUMMARY:icyball 冰球樂團《我很抱歉》香港演唱會
END:VEVENT
END:VCALENDAR
